BEGIN:VCALENDAR
VERSION:2.0
PRODID:calendify.com
BEGIN:VEVENT
UID:calendify-session-XpBMRXjm4ar
DTSTART:20231229T110000Z
SEQUENCE:0
TRANSP:OPAQUE
DTEND:20231229T123000Z
URL:https://calendify.com/session/XpBMRXjm4ar
LOCATION:ChaosZone
SUMMARY:ChaosZone Meetup
CLASS:PUBLIC
DESCRIPTION:https://calendify.com/session/XpBMRXjm4ar
DTSTAMP:20260423T043435Z
CREATED:20231222T100106Z
LAST-MODIFIED:20240401T142932Z
END:VEVENT
END:VCALENDAR