BEGIN:VCALENDAR
VERSION:2.0
PRODID:calendify.com
BEGIN:VEVENT
UID:calendify-session-XpBMRXoW4ar
DTSTART:20230817T190000Z
SEQUENCE:0
TRANSP:OPAQUE
DTEND:20230817T194500Z
URL:https://calendify.com/session/XpBMRXoW4ar
LOCATION:N:O:R:T:x
SUMMARY:A spontaneous introduction to the demoscene
CLASS:PUBLIC
DESCRIPTION:https://calendify.com/session/XpBMRXoW4ar
DTSTAMP:20260423T203542Z
CREATED:20230818T193814Z
LAST-MODIFIED:20240401T150801Z
END:VEVENT
END:VCALENDAR