BEGIN:VCALENDAR
VERSION:2.0
PRODID:calendify.com
BEGIN:VEVENT
UID:calendify-session-XpBMRXpZ4ar
DTSTART:20231230T125000Z
SEQUENCE:0
TRANSP:OPAQUE
DTEND:20231230T133000Z
URL:https://calendify.com/session/XpBMRXpZ4ar
LOCATION:Saal Granville
SUMMARY:KI im Klassenzimmer - ein Update!
CLASS:PUBLIC
DESCRIPTION:https://calendify.com/session/XpBMRXpZ4ar
DTSTAMP:20260423T055844Z
CREATED:20231215T204822Z
LAST-MODIFIED:20240401T142934Z
END:VEVENT
END:VCALENDAR