BEGIN:VCALENDAR
VERSION:2.0
PRODID:calendify.com
BEGIN:VEVENT
UID:calendify-session-XpBMRXw84ar
DTSTART:20231229T134500Z
SEQUENCE:0
TRANSP:OPAQUE
DTEND:20231229T144500Z
URL:https://calendify.com/session/XpBMRXw84ar
LOCATION:cyber4EDU Assembly
SUMMARY:cyber4EDU (Zu-)Hörstunde - Fokus Berufsschule
CLASS:PUBLIC
DESCRIPTION:https://calendify.com/session/XpBMRXw84ar
DTSTAMP:20260423T030627Z
CREATED:20231228T112003Z
LAST-MODIFIED:20240401T142933Z
END:VEVENT
END:VCALENDAR