BEGIN:VCALENDAR
VERSION:2.0
PRODID:calendify.com
BEGIN:VEVENT
UID:calendify-session-XpBMRn9jMar
DTSTART:20201230T075500Z
SEQUENCE:0
TRANSP:OPAQUE
DTEND:20201230T085700Z
URL:https://calendify.com/session/XpBMRn9jMar
LOCATION:classics
SUMMARY:32c3 Quantenphysik und Kosmologie
CLASS:PUBLIC
DESCRIPTION:https://calendify.com/session/XpBMRn9jMar
DTSTAMP:20260422T162010Z
CREATED:20201230T143304Z
LAST-MODIFIED:20210114T154804Z
END:VEVENT
END:VCALENDAR