BEGIN:VCALENDAR
VERSION:2.0
PRODID:calendify.com
BEGIN:VEVENT
UID:calendify-session-XpBMRnxlMar
DTSTART:20210206T132000Z
SEQUENCE:0
TRANSP:OPAQUE
DTEND:20210206T134500Z
URL:https://calendify.com/session/XpBMRnxlMar
LOCATION:D.hardware.trusted
SUMMARY:Overview of Secure Boot state in the ARM-based SoCs
CLASS:PUBLIC
DESCRIPTION:https://calendify.com/session/XpBMRnxlMar
DTSTAMP:20260420T000101Z
CREATED:20210111T170318Z
LAST-MODIFIED:20210208T224802Z
END:VEVENT
END:VCALENDAR