BEGIN:VCALENDAR
VERSION:2.0
PRODID:calendify.com
BEGIN:VEVENT
UID:calendify-session-XpBMRonjgar
DTSTART:20241227T110000Z
SEQUENCE:0
TRANSP:OPAQUE
DTEND:20241227T114000Z
URL:https://calendify.com/session/XpBMRonjgar
LOCATION:Saal GLITCH
SUMMARY:ACE up the sleeve: Hacking into Apple's new USB-C Controller
CLASS:PUBLIC
DESCRIPTION:https://calendify.com/session/XpBMRonjgar
DTSTAMP:20260423T230527Z
CREATED:20241208T214807Z
LAST-MODIFIED:20251019T194651Z
END:VEVENT
END:VCALENDAR