BEGIN:VCALENDAR
VERSION:2.0
PRODID:calendify.com
BEGIN:VEVENT
UID:calendify-session-XpBMRq3ROar
DTSTART:20180512T170000Z
SEQUENCE:0
TRANSP:OPAQUE
DTEND:20180512T180000Z
URL:https://calendify.com/session/XpBMRq3ROar
LOCATION:ZKM_OpenHUB
SUMMARY:Lasst uns Massenverschlüsslung ausrollen!
CLASS:PUBLIC
DESCRIPTION:https://calendify.com/session/XpBMRq3ROar
DTSTAMP:20260420T183118Z
CREATED:20200513T011828Z
LAST-MODIFIED:20200513T011828Z
END:VEVENT
END:VCALENDAR