BEGIN:VCALENDAR
VERSION:2.0
PRODID:calendify.com
BEGIN:VEVENT
UID:calendify-session-XpBMRq7jOar
DTSTART:20190822T103500Z
SEQUENCE:0
TRANSP:OPAQUE
DTEND:20190822T104000Z
URL:https://calendify.com/session/XpBMRq7jOar
LOCATION:Meitner
SUMMARY:distri: a Linux distribution to research fast package management
CLASS:PUBLIC
DESCRIPTION:https://calendify.com/session/XpBMRq7jOar
DTSTAMP:20260422T183216Z
CREATED:20200513T001655Z
LAST-MODIFIED:20200513T003255Z
END:VEVENT
END:VCALENDAR