BEGIN:VCALENDAR
VERSION:2.0
PRODID:calendify.com
BEGIN:VEVENT
UID:calendify-session-XpBMRqRPOar
DTSTART:20190601T154500Z
SEQUENCE:0
TRANSP:OPAQUE
DTEND:20190601T164500Z
URL:https://calendify.com/session/XpBMRqRPOar
LOCATION:HfG_Studio
SUMMARY:Psychedelisches Neurohacking
CLASS:PUBLIC
DESCRIPTION:https://calendify.com/session/XpBMRqRPOar
DTSTAMP:20260423T175552Z
CREATED:20200509T115117Z
LAST-MODIFIED:20200509T115117Z
END:VEVENT
END:VCALENDAR