BEGIN:VCALENDAR
VERSION:2.0
PRODID:calendify.com
BEGIN:VEVENT
UID:calendify-session-XpBMRqYPOar
DTSTART:20200202T083000Z
SEQUENCE:0
TRANSP:OPAQUE
DTEND:20200202T085500Z
URL:https://calendify.com/session/XpBMRqYPOar
LOCATION:UB2.147
SUMMARY:Tesselle image viewer
CLASS:PUBLIC
DESCRIPTION:https://calendify.com/session/XpBMRqYPOar
DTSTAMP:20260422T112942Z
CREATED:20200513T234735Z
LAST-MODIFIED:20210426T093310Z
END:VEVENT
END:VCALENDAR