BEGIN:VCALENDAR
VERSION:2.0
PRODID:calendify.com
BEGIN:VEVENT
UID:calendify-session-XpBMRqjlOar
DTSTART:20180511T110000Z
SEQUENCE:0
TRANSP:OPAQUE
DTEND:20180511T120000Z
URL:https://calendify.com/session/XpBMRqjlOar
LOCATION:ZKM_OpenHUB
SUMMARY:Gimmicks into Augmented reality
CLASS:PUBLIC
DESCRIPTION:https://calendify.com/session/XpBMRqjlOar
DTSTAMP:20260422T031326Z
CREATED:20200513T011828Z
LAST-MODIFIED:20200513T011828Z
END:VEVENT
END:VCALENDAR