BEGIN:VCALENDAR
VERSION:2.0
PRODID:calendify.com
BEGIN:VEVENT
UID:calendify-session-XpBMRqlWOar
DTSTART:20200507T170000Z
SEQUENCE:0
TRANSP:OPAQUE
DTEND:20200507T171500Z
URL:https://calendify.com/session/XpBMRqlWOar
LOCATION:Deep Dive 2
SUMMARY:Deep Dive - Triage zwischen Ethik\, Politik und dem Grundgesetz
CLASS:PUBLIC
DESCRIPTION:https://calendify.com/session/XpBMRqlWOar
DTSTAMP:20260420T083325Z
CREATED:20200505T102036Z
LAST-MODIFIED:20210113T190846Z
END:VEVENT
END:VCALENDAR