BEGIN:VCALENDAR
VERSION:2.0
PRODID:calendify.com
BEGIN:VEVENT
UID:calendify-session-XpBMRqxwOar
DTSTART:20181227T195000Z
SEQUENCE:0
TRANSP:OPAQUE
DTEND:20181227T205000Z
URL:https://calendify.com/session/XpBMRqxwOar
LOCATION:Eliza
SUMMARY:A la recherche de l'information perdue
CLASS:PUBLIC
DESCRIPTION:https://calendify.com/session/XpBMRqxwOar
DTSTAMP:20260423T191832Z
CREATED:20200509T021811Z
LAST-MODIFIED:20200512T221856Z
END:VEVENT
END:VCALENDAR