BEGIN:VCALENDAR
VERSION:2.0
PRODID:calendify.com
BEGIN:VEVENT
UID:calendify-session-XpBMRx9w4ar
DTSTART:20210308T133000Z
SEQUENCE:0
TRANSP:OPAQUE
URL:https://calendify.com/session/XpBMRx9w4ar
LOCATION:Art and Media
SUMMARY:Video! Facts and Figures from Mozilla's Internet Health Report
CLASS:PUBLIC
DESCRIPTION:https://calendify.com/session/XpBMRx9w4ar
DTSTAMP:20260422T180010Z
CREATED:20210426T094927Z
LAST-MODIFIED:20210426T094927Z
END:VEVENT
END:VCALENDAR