BEGIN:VCALENDAR
VERSION:2.0
PRODID:calendify.com
BEGIN:VEVENT
UID:calendify-session-XpBMRxL24ar
DTSTART:20220206T111500Z
SEQUENCE:0
TRANSP:OPAQUE
DTEND:20220206T113000Z
URL:https://calendify.com/session/XpBMRxL24ar
LOCATION:D.javascript
SUMMARY:JavaScript welcome session - day #2
CLASS:PUBLIC
DESCRIPTION:https://calendify.com/session/XpBMRxL24ar
DTSTAMP:20260420T092420Z
CREATED:20220120T214608Z
LAST-MODIFIED:20220206T225004Z
END:VEVENT
END:VCALENDAR