BEGIN:VCALENDAR
VERSION:2.0
PRODID:calendify.com
BEGIN:VEVENT
UID:calendify-session-XpBMRxN84ar
DTSTART:20210318T170000Z
SEQUENCE:0
TRANSP:OPAQUE
DTEND:20210318T180000Z
URL:https://calendify.com/session/XpBMRxN84ar
LOCATION:Zoom Room 3A
SUMMARY:Making AI Matter Panel: How Would You Solve Climate Change using AI
CLASS:PUBLIC
DESCRIPTION:https://calendify.com/session/XpBMRxN84ar
DTSTAMP:20260422T123932Z
CREATED:20210426T094929Z
LAST-MODIFIED:20210426T094929Z
END:VEVENT
END:VCALENDAR