BEGIN:VCALENDAR
VERSION:2.0
PRODID:calendify.com
BEGIN:VEVENT
UID:calendify-session-XpBMRxRl4ar
DTSTART:20210520T142500Z
SEQUENCE:0
TRANSP:OPAQUE
DTEND:20210520T145000Z
URL:https://calendify.com/session/XpBMRxRl4ar
LOCATION:Kanal 1
SUMMARY:Spreading disinformation and hate: Wachstumsschmerz\, Designfehler 
 oder Gesellschaftsproblem?
CLASS:PUBLIC
DESCRIPTION:https://calendify.com/session/XpBMRxRl4ar
DTSTAMP:20260423T043531Z
CREATED:20210508T131338Z
LAST-MODIFIED:20210524T215002Z
END:VEVENT
END:VCALENDAR