BEGIN:VCALENDAR
VERSION:2.0
PRODID:calendify.com
BEGIN:VEVENT
UID:calendify-session-XpBMRxbZ4ar
DTSTART:20210317T213000Z
SEQUENCE:0
TRANSP:OPAQUE
DTEND:20210317T223000Z
URL:https://calendify.com/session/XpBMRxbZ4ar
LOCATION:Spatial Chat / Social 1
SUMMARY:Battle of the Flobots I - A VR Theatre Show
CLASS:PUBLIC
DESCRIPTION:https://calendify.com/session/XpBMRxbZ4ar
DTSTAMP:20260420T160220Z
CREATED:20210426T094605Z
LAST-MODIFIED:20210426T094929Z
END:VEVENT
END:VCALENDAR