BEGIN:VCALENDAR
VERSION:2.0
PRODID:calendify.com
BEGIN:VEVENT
UID:calendify-session-XpBMRxnP4ar
DTSTART:20210314T153000Z
SEQUENCE:0
TRANSP:OPAQUE
DTEND:20210314T163000Z
URL:https://calendify.com/session/XpBMRxnP4ar
LOCATION:Zoom Room 1B
SUMMARY:You have been diagnosed with BWD (Binge Watching Disorder): hacking
  towards a healthier internet diet.
CLASS:PUBLIC
DESCRIPTION:https://calendify.com/session/XpBMRxnP4ar
DTSTAMP:20260420T160235Z
CREATED:20210426T094928Z
LAST-MODIFIED:20210426T094928Z
END:VEVENT
END:VCALENDAR