BEGIN:VCALENDAR
VERSION:2.0
PRODID:calendify.com
BEGIN:VEVENT
UID:calendify-session-XpBMRxxj4ar
DTSTART:20210315T181500Z
SEQUENCE:0
TRANSP:OPAQUE
DTEND:20210315T191500Z
URL:https://calendify.com/session/XpBMRxxj4ar
LOCATION:Zoom Room 7B
SUMMARY:Decoded Reality
CLASS:PUBLIC
DESCRIPTION:https://calendify.com/session/XpBMRxxj4ar
DTSTAMP:20260420T185643Z
CREATED:20210426T094928Z
LAST-MODIFIED:20210426T094928Z
END:VEVENT
END:VCALENDAR