BEGIN:VCALENDAR
VERSION:2.0
PRODID:calendify.com
BEGIN:VEVENT
UID:calendify-session-XpBMRxzP4ar
DTSTART:20210312T181500Z
SEQUENCE:0
TRANSP:OPAQUE
DTEND:20210312T191500Z
URL:https://calendify.com/session/XpBMRxzP4ar
LOCATION:Zoom Room 6B
SUMMARY:Chimera Painter: Using GANs to Create Fantastical Creatures
CLASS:PUBLIC
DESCRIPTION:https://calendify.com/session/XpBMRxzP4ar
DTSTAMP:20260420T173519Z
CREATED:20210426T094928Z
LAST-MODIFIED:20210426T094928Z
END:VEVENT
END:VCALENDAR