BEGIN:VCALENDAR
VERSION:2.0
PRODID:calendify.com
BEGIN:VEVENT
UID:calendify-session-XpBMRz9lMar
DTSTART:20190921T190000Z
SEQUENCE:0
TRANSP:OPAQUE
DTEND:20190921T210000Z
URL:https://calendify.com/session/XpBMRz9lMar
LOCATION:Großer Saal
SUMMARY:Cyber Meta Media Show
CLASS:PUBLIC
DESCRIPTION:https://calendify.com/session/XpBMRz9lMar
DTSTAMP:20260424T014519Z
CREATED:20200610T174346Z
LAST-MODIFIED:20200610T174346Z
END:VEVENT
END:VCALENDAR