BEGIN:VCALENDAR
VERSION:2.0
PRODID:calendify.com
BEGIN:VEVENT
UID:calendify-session-Zx8g83BRMyv
DTSTART:20241228T231500Z
SEQUENCE:0
TRANSP:OPAQUE
DTEND:20241228T234500Z
URL:https://calendify.com/session/Zx8g83BRMyv
LOCATION:\"KliMathematik Augsburg\" Table
SUMMARY:Wondrous mathematics: The world through the eyes of a prime number
CLASS:PUBLIC
DESCRIPTION:https://calendify.com/session/Zx8g83BRMyv
DTSTAMP:20260424T041653Z
CREATED:20241227T141509Z
LAST-MODIFIED:20250101T225003Z
END:VEVENT
END:VCALENDAR