BEGIN:VCALENDAR
VERSION:2.0
PRODID:calendify.com
BEGIN:VEVENT
UID:calendify-session-Zx8g83nEMyv
DTSTART:20241230T160000Z
SEQUENCE:0
TRANSP:OPAQUE
DTEND:20241230T170000Z
URL:https://calendify.com/session/Zx8g83nEMyv
LOCATION:Kidspace - Elektrotisch
SUMMARY:Legal Destruction – Der Kidspace wird defragmentiert!
CLASS:PUBLIC
DESCRIPTION:https://calendify.com/session/Zx8g83nEMyv
DTSTAMP:20260424T025208Z
CREATED:20241229T095004Z
LAST-MODIFIED:20250101T225004Z
END:VEVENT
END:VCALENDAR