BEGIN:VCALENDAR
VERSION:2.0
PRODID:calendify.com
BEGIN:VEVENT
UID:calendify-session-Zx8g83pbMyv
DTSTART:20241228T220000Z
SEQUENCE:0
TRANSP:OPAQUE
DTEND:20241228T230000Z
URL:https://calendify.com/session/Zx8g83pbMyv
LOCATION:SoS Saal 6
SUMMARY:Märchen aus Nerdingen - Lesung von Märchen über Cybersecurity: S
 chutz der digitalen Welt durch Fantasie und Technik
CLASS:PUBLIC
DESCRIPTION:https://calendify.com/session/Zx8g83pbMyv
DTSTAMP:20260419T160753Z
CREATED:20241227T141504Z
LAST-MODIFIED:20250101T225002Z
END:VEVENT
END:VCALENDAR