BEGIN:VCALENDAR
VERSION:2.0
PRODID:calendify.com
BEGIN:VEVENT
UID:calendify-session-Zx8g83vEMyv
DTSTART:20241230T100000Z
SEQUENCE:0
TRANSP:OPAQUE
DTEND:20241230T140000Z
URL:https://calendify.com/session/Zx8g83vEMyv
LOCATION:Kidspace - Elektrotisch
SUMMARY:Elektrobausteine - Tag 4
CLASS:PUBLIC
DESCRIPTION:https://calendify.com/session/Zx8g83vEMyv
DTSTAMP:20260423T203634Z
CREATED:20241227T141516Z
LAST-MODIFIED:20250101T225004Z
END:VEVENT
END:VCALENDAR