BEGIN:VCALENDAR
VERSION:2.0
PRODID:calendify.com
BEGIN:VEVENT
UID:calendify-session-Zx8g8A1b4yv
DTSTART:20210314T144000Z
SEQUENCE:0
TRANSP:OPAQUE
DTEND:20210314T154000Z
URL:https://calendify.com/session/Zx8g8A1b4yv
LOCATION:Zoom Room 3A
SUMMARY:Exploring the digital world through the traditional dance form of I
 ndia.(Bharatanatyam)
CLASS:PUBLIC
DESCRIPTION:https://calendify.com/session/Zx8g8A1b4yv
DTSTAMP:20260420T160309Z
CREATED:20210426T094604Z
LAST-MODIFIED:20210426T094928Z
END:VEVENT
END:VCALENDAR