BEGIN:VCALENDAR
VERSION:2.0
PRODID:calendify.com
BEGIN:VEVENT
UID:calendify-session-Zx8g8AL54yv
DTSTART:20201229T120000Z
SEQUENCE:0
TRANSP:OPAQUE
DTEND:20201229T133000Z
URL:https://calendify.com/session/Zx8g8AL54yv
LOCATION:Wikipaka Meetups
SUMMARY:Querying Linked (Wiki)data with SPARQL ✨
CLASS:PUBLIC
DESCRIPTION:https://calendify.com/session/Zx8g8AL54yv
DTSTAMP:20260423T231039Z
CREATED:20210111T023303Z
LAST-MODIFIED:20210114T154804Z
END:VEVENT
END:VCALENDAR