BEGIN:VCALENDAR
VERSION:2.0
PRODID:calendify.com
BEGIN:VEVENT
UID:calendify-session-Zx8g8ARr4yv
DTSTART:20210206T160500Z
SEQUENCE:0
TRANSP:OPAQUE
DTEND:20210206T163000Z
URL:https://calendify.com/session/Zx8g8ARr4yv
LOCATION:D.rtc
SUMMARY:reSIProcate project news
CLASS:PUBLIC
DESCRIPTION:https://calendify.com/session/Zx8g8ARr4yv
DTSTAMP:20260419T182555Z
CREATED:20210113T115146Z
LAST-MODIFIED:20210208T224803Z
END:VEVENT
END:VCALENDAR