BEGIN:VCALENDAR
VERSION:2.0
PRODID:calendify.com
BEGIN:VEVENT
UID:calendify-session-Zx8g8AYv4yv
DTSTART:20210206T083000Z
SEQUENCE:0
TRANSP:OPAQUE
DTEND:20210206T090000Z
URL:https://calendify.com/session/Zx8g8AYv4yv
LOCATION:S.haiku
SUMMARY:Welcome to the stand for Haiku
CLASS:PUBLIC
DESCRIPTION:https://calendify.com/session/Zx8g8AYv4yv
DTSTAMP:20260424T004045Z
CREATED:20210125T190820Z
LAST-MODIFIED:20210208T224803Z
END:VEVENT
END:VCALENDAR