BEGIN:VCALENDAR
VERSION:2.0
PRODID:calendify.com
BEGIN:VEVENT
UID:calendify-session-Zx8g8AaE4yv
DTSTART:20210207T140000Z
SEQUENCE:0
TRANSP:OPAQUE
DTEND:20210207T144500Z
URL:https://calendify.com/session/Zx8g8AaE4yv
LOCATION:D.firmware
SUMMARY:GRUB - Project Status Update
CLASS:PUBLIC
DESCRIPTION:https://calendify.com/session/Zx8g8AaE4yv
DTSTAMP:20260419T225156Z
CREATED:20210201T190824Z
LAST-MODIFIED:20210208T224804Z
END:VEVENT
END:VCALENDAR