BEGIN:VCALENDAR
VERSION:2.0
PRODID:calendify.com
BEGIN:VEVENT
UID:calendify-session-Zx8g8AdP4yv
DTSTART:20210206T101500Z
SEQUENCE:0
TRANSP:OPAQUE
DTEND:20210206T102500Z
URL:https://calendify.com/session/Zx8g8AdP4yv
LOCATION:D.research
SUMMARY:From Navicrawler to HyBro: a brief history of webcrawlers for socia
 l sciences
CLASS:PUBLIC
DESCRIPTION:https://calendify.com/session/Zx8g8AdP4yv
DTSTAMP:20260421T081049Z
CREATED:20210111T170319Z
LAST-MODIFIED:20210208T224802Z
END:VEVENT
END:VCALENDAR