BEGIN:VCALENDAR
VERSION:2.0
PRODID:calendify.com
BEGIN:VEVENT
UID:calendify-session-Zx8g8Ada4yv
DTSTART:20210206T133500Z
SEQUENCE:0
TRANSP:OPAQUE
DTEND:20210206T140000Z
URL:https://calendify.com/session/Zx8g8Ada4yv
LOCATION:D.research
SUMMARY:Free/Open source Research Software production at the Gaspard-Monge 
 Computer Science laboratory
CLASS:PUBLIC
DESCRIPTION:https://calendify.com/session/Zx8g8Ada4yv
DTSTAMP:20260423T174856Z
CREATED:20210111T170319Z
LAST-MODIFIED:20210208T224803Z
END:VEVENT
END:VCALENDAR