BEGIN:VCALENDAR
VERSION:2.0
PRODID:calendify.com
BEGIN:VEVENT
UID:calendify-session-Zx8g8Anb4yv
DTSTART:20210207T101000Z
SEQUENCE:0
TRANSP:OPAQUE
DTEND:20210207T104000Z
URL:https://calendify.com/session/Zx8g8Anb4yv
LOCATION:D.kotlin
SUMMARY:Live coding server as a function with http4k
CLASS:PUBLIC
DESCRIPTION:https://calendify.com/session/Zx8g8Anb4yv
DTSTAMP:20260419T235443Z
CREATED:20210111T170320Z
LAST-MODIFIED:20210208T224804Z
END:VEVENT
END:VCALENDAR