BEGIN:VCALENDAR
VERSION:2.0
PRODID:calendify.com
BEGIN:VEVENT
UID:calendify-session-Zx8g8Ava4yv
DTSTART:20210207T160000Z
SEQUENCE:0
TRANSP:OPAQUE
DTEND:20210207T161500Z
URL:https://calendify.com/session/Zx8g8Ava4yv
LOCATION:D.composition
SUMMARY:Evolving vulnerabilities in CycloneDX
CLASS:PUBLIC
DESCRIPTION:https://calendify.com/session/Zx8g8Ava4yv
DTSTAMP:20260420T122421Z
CREATED:20210111T170319Z
LAST-MODIFIED:20210208T224803Z
END:VEVENT
END:VCALENDAR