BEGIN:VCALENDAR
VERSION:2.0
PRODID:calendify.com
BEGIN:VEVENT
UID:calendify-session-Zx8g8AyL4yv
DTSTART:20210206T145000Z
SEQUENCE:0
TRANSP:OPAQUE
DTEND:20210206T151500Z
URL:https://calendify.com/session/Zx8g8AyL4yv
LOCATION:D.hardware.trusted
SUMMARY:TEEP (Trusted Execution Environment Provisioning) Implementation on
  RISC-V
CLASS:PUBLIC
DESCRIPTION:https://calendify.com/session/Zx8g8AyL4yv
DTSTAMP:20260420T024910Z
CREATED:20210111T170318Z
LAST-MODIFIED:20210208T224802Z
END:VEVENT
END:VCALENDAR