BEGIN:VCALENDAR
VERSION:2.0
PRODID:calendify.com
BEGIN:VEVENT
UID:calendify-session-Zx8g8AyP4yv
DTSTART:20210206T160000Z
SEQUENCE:0
TRANSP:OPAQUE
DTEND:20210206T163000Z
URL:https://calendify.com/session/Zx8g8AyP4yv
LOCATION:D.hpc
SUMMARY:Guix Workflow Language
CLASS:PUBLIC
DESCRIPTION:https://calendify.com/session/Zx8g8AyP4yv
DTSTAMP:20260423T151310Z
CREATED:20210111T170318Z
LAST-MODIFIED:20210208T224802Z
END:VEVENT
END:VCALENDAR