BEGIN:VCALENDAR
VERSION:2.0
PRODID:calendify.com
BEGIN:VEVENT
UID:calendify-session-Zx8g8B1EOyv
DTSTART:20200202T080000Z
SEQUENCE:0
TRANSP:OPAQUE
DTEND:20200202T083000Z
URL:https://calendify.com/session/Zx8g8B1EOyv
LOCATION:UB2.252A (Lameere)
SUMMARY:The State of Go
CLASS:PUBLIC
DESCRIPTION:https://calendify.com/session/Zx8g8B1EOyv
DTSTAMP:20260419T133853Z
CREATED:20200513T234735Z
LAST-MODIFIED:20210426T093310Z
END:VEVENT
END:VCALENDAR