BEGIN:VCALENDAR
VERSION:2.0
PRODID:calendify.com
BEGIN:VEVENT
UID:calendify-session-Zx8g8Bl5Oyv
DTSTART:20190825T180000Z
SEQUENCE:0
TRANSP:OPAQUE
DTEND:20190825T210000Z
URL:https://calendify.com/session/Zx8g8Bl5Oyv
LOCATION:Rockmore Booth
SUMMARY:Silvie
CLASS:PUBLIC
DESCRIPTION:https://calendify.com/session/Zx8g8Bl5Oyv
DTSTAMP:20260420T100046Z
CREATED:20200513T001655Z
LAST-MODIFIED:20200513T003255Z
END:VEVENT
END:VCALENDAR