BEGIN:VCALENDAR
VERSION:2.0
PRODID:calendify.com
BEGIN:VEVENT
UID:calendify-session-Zx8g8Bo5Oyv
DTSTART:20200202T082000Z
SEQUENCE:0
TRANSP:OPAQUE
DTEND:20200202T083500Z
URL:https://calendify.com/session/Zx8g8Bo5Oyv
LOCATION:UD2.208 (Decroly)
SUMMARY:Janus as a WebRTC \"enabler\"
CLASS:PUBLIC
DESCRIPTION:https://calendify.com/session/Zx8g8Bo5Oyv
DTSTAMP:20260423T205057Z
CREATED:20200513T234735Z
LAST-MODIFIED:20210426T093310Z
END:VEVENT
END:VCALENDAR