BEGIN:VCALENDAR
VERSION:2.0
PRODID:calendify.com
BEGIN:VEVENT
UID:calendify-session-Zx8g8BrROyv
DTSTART:20200201T163000Z
SEQUENCE:0
TRANSP:OPAQUE
DTEND:20200201T165500Z
URL:https://calendify.com/session/Zx8g8BrROyv
LOCATION:UD2.218A
SUMMARY:The State of PTXdist
CLASS:PUBLIC
DESCRIPTION:https://calendify.com/session/Zx8g8BrROyv
DTSTAMP:20260422T143714Z
CREATED:20200513T234731Z
LAST-MODIFIED:20210426T093308Z
END:VEVENT
END:VCALENDAR