BEGIN:VCALENDAR
VERSION:2.0
PRODID:calendify.com
BEGIN:VEVENT
UID:calendify-session-Zx8g8BvvOyv
DTSTART:20190531T144500Z
SEQUENCE:0
TRANSP:OPAQUE
DTEND:20190531T151500Z
URL:https://calendify.com/session/Zx8g8BvvOyv
LOCATION:ZKM_OpenHUB
SUMMARY:Ernährungsmythen - Eine chemische Reise durch die menschliche Nahr
 ungsaufnahme
CLASS:PUBLIC
DESCRIPTION:https://calendify.com/session/Zx8g8BvvOyv
DTSTAMP:20260424T133658Z
CREATED:20200509T115103Z
LAST-MODIFIED:20200509T115103Z
END:VEVENT
END:VCALENDAR