BEGIN:VCALENDAR
VERSION:2.0
PRODID:calendify.com
BEGIN:VEVENT
UID:calendify-session-Zx8g8BwROyv
DTSTART:20200201T100000Z
SEQUENCE:0
TRANSP:OPAQUE
DTEND:20200201T102500Z
URL:https://calendify.com/session/Zx8g8BwROyv
LOCATION:UD2.120 (Chavanne)
SUMMARY:Using OpenAPI to Maximise Your Pulp 3 Experience
CLASS:PUBLIC
DESCRIPTION:https://calendify.com/session/Zx8g8BwROyv
DTSTAMP:20260423T134739Z
CREATED:20200513T234731Z
LAST-MODIFIED:20210426T093308Z
END:VEVENT
END:VCALENDAR