BEGIN:VCALENDAR
VERSION:2.0
PRODID:calendify.com
BEGIN:VEVENT
UID:calendify-session-Zx8g8K1EMyv
DTSTART:20220724T200000Z
SEQUENCE:0
TRANSP:OPAQUE
DTEND:20220724T205000Z
URL:https://calendify.com/session/Zx8g8K1EMyv
LOCATION:Abacus 🧮
SUMMARY:Democracy: Eventually Digitally Transparent?
CLASS:PUBLIC
DESCRIPTION:https://calendify.com/session/Zx8g8K1EMyv
DTSTAMP:20260424T015610Z
CREATED:20220620T212434Z
LAST-MODIFIED:20220726T182703Z
END:VEVENT
END:VCALENDAR