BEGIN:VCALENDAR
VERSION:2.0
PRODID:calendify.com
BEGIN:VEVENT
UID:calendify-session-Zx8g8K5pMyv
DTSTART:20220610T100000Z
SEQUENCE:0
TRANSP:OPAQUE
DTEND:20220610T101500Z
URL:https://calendify.com/session/Zx8g8K5pMyv
LOCATION:Stage 1
SUMMARY:Im Gespräch: Friederike Otto & Wolfgang Blau
CLASS:PUBLIC
DESCRIPTION:https://calendify.com/session/Zx8g8K5pMyv
DTSTAMP:20260420T185812Z
CREATED:20220531T124133Z
LAST-MODIFIED:20220613T235205Z
END:VEVENT
END:VCALENDAR