BEGIN:VCALENDAR
VERSION:2.0
PRODID:calendify.com
BEGIN:VEVENT
UID:calendify-session-Zx8g8K6LMyv
DTSTART:20220521T153000Z
SEQUENCE:0
TRANSP:OPAQUE
DTEND:20220521T183000Z
URL:https://calendify.com/session/Zx8g8K6LMyv
LOCATION:Raum 112
SUMMARY:Code for Germany Community Treffen
CLASS:PUBLIC
DESCRIPTION:https://calendify.com/session/Zx8g8K6LMyv
DTSTAMP:20260420T083606Z
CREATED:20220502T005753Z
LAST-MODIFIED:20220521T215002Z
END:VEVENT
END:VCALENDAR