BEGIN:VCALENDAR
VERSION:2.0
PRODID:calendify.com
BEGIN:VEVENT
UID:calendify-session-Zx8g8K8yMyv
DTSTART:20220609T110000Z
SEQUENCE:0
TRANSP:OPAQUE
DTEND:20220609T120000Z
URL:https://calendify.com/session/Zx8g8K8yMyv
LOCATION:Workshop F
SUMMARY:Guardians of Democracy: Wie man der AfD-Stiftung entgegentritt
CLASS:PUBLIC
DESCRIPTION:https://calendify.com/session/Zx8g8K8yMyv
DTSTAMP:20260423T135837Z
CREATED:20220526T162945Z
LAST-MODIFIED:20220613T235204Z
END:VEVENT
END:VCALENDAR