BEGIN:VCALENDAR
VERSION:2.0
PRODID:calendify.com
BEGIN:VEVENT
UID:calendify-session-Zx8g8KEbMyv
DTSTART:20220608T123000Z
SEQUENCE:0
TRANSP:OPAQUE
DTEND:20220608T130000Z
URL:https://calendify.com/session/Zx8g8KEbMyv
LOCATION:Stage 4
SUMMARY:Wie und wo wollen wir leben in Zeiten der Klimakrise?
CLASS:PUBLIC
DESCRIPTION:https://calendify.com/session/Zx8g8KEbMyv
DTSTAMP:20260423T163044Z
CREATED:20220526T162944Z
LAST-MODIFIED:20220613T235204Z
END:VEVENT
END:VCALENDAR