BEGIN:VCALENDAR
VERSION:2.0
PRODID:calendify.com
BEGIN:VEVENT
UID:calendify-session-Zx8g8KLyMyv
DTSTART:20220206T093000Z
SEQUENCE:0
TRANSP:OPAQUE
DTEND:20220206T100000Z
URL:https://calendify.com/session/Zx8g8KLyMyv
LOCATION:S.kde
SUMMARY:Plasma 5.24 tour
CLASS:PUBLIC
DESCRIPTION:https://calendify.com/session/Zx8g8KLyMyv
DTSTAMP:20260422T204219Z
CREATED:20220203T031003Z
LAST-MODIFIED:20220206T225004Z
END:VEVENT
END:VCALENDAR